BEGIN:VCALENDAR
VERSION:2.0
PRODID:LFV Website-Kit
METHOD:PUBLISH
BEGIN:VEVENT
UID:lfv-d0a04f37-2c82-4159-8199-abfde949d32c
LOCATION:Am Pfarrzentrum 10 89257 Au
SUMMARY:Standortausbildung THL
DESCRIPTION:Ausbildung für alle ab 16 Jahren\n\nTermin Link: https://www.freiwillige-feuerwehr-au-iller.de/termine/standortausbildung-thl-3/
URL:https://www.freiwillige-feuerwehr-au-iller.de/termine/standortausbildung-thl-3/
CLASS:PRIVATE
DTSTART;TZID=Europe/Berlin:20261006T190000
DTEND;TZID=Europe/Berlin:20261006T203000
DTSTAMP:20260423T084304Z
END:VEVENT
END:VCALENDAR