BEGIN:VCALENDAR
VERSION:2.0
PRODID:LFV Website-Kit
METHOD:PUBLISH
BEGIN:VEVENT
UID:lfv-b25f410a-1f23-49ff-a02a-482275eed191
LOCATION:Am Pfarrzentrum 10 89257 Au
SUMMARY:Maschinistenausbildung
DESCRIPTION:Ausbildung spezialisiert auf die Anforderungen als Maschinist\n\nTermin Link: https://www.freiwillige-feuerwehr-au-iller.de/termine/maschinistenausbildung-4/
URL:https://www.freiwillige-feuerwehr-au-iller.de/termine/maschinistenausbildung-4/
CLASS:PRIVATE
DTSTART;TZID=Europe/Berlin:20261117T190000
DTEND;TZID=Europe/Berlin:20261117T203000
DTSTAMP:20260423T083902Z
END:VEVENT
END:VCALENDAR