BEGIN:VCALENDAR
VERSION:2.0
PRODID:LFV Website-Kit
METHOD:PUBLISH
BEGIN:VEVENT
UID:lfv-b15de73d-d041-4d6f-9fa4-3bf34e341d0e
LOCATION:Am Pfarrzentrum 10 89257 Au
SUMMARY:Einsatzübung
DESCRIPTION:Ausbildung für alle ab 16 Jahren\n\nTermin Link: https://www.freiwillige-feuerwehr-au-iller.de/termine/einsatzubung-1/
URL:https://www.freiwillige-feuerwehr-au-iller.de/termine/einsatzubung-1/
CLASS:PRIVATE
DTSTART;TZID=Europe/Berlin:20261023T180000
DTEND;TZID=Europe/Berlin:20261023T203000
DTSTAMP:20260423T083553Z
END:VEVENT
END:VCALENDAR