BEGIN:VCALENDAR
VERSION:2.0
PRODID:LFV Website-Kit
METHOD:PUBLISH
BEGIN:VEVENT
UID:lfv-da7013cf-59d0-44f4-b398-c62be2411441
LOCATION:Am Pfarrzentrum 10 89257 Au
SUMMARY:Atemschutzausbildung
DESCRIPTION:Ausbildung spezialisiert auf die Anforderungen als Atemschutzgeräteträger\n\nTermin Link: https://www.freiwillige-feuerwehr-au-iller.de/termine/atemschutzausbildung-3/
URL:https://www.freiwillige-feuerwehr-au-iller.de/termine/atemschutzausbildung-3/
CLASS:PRIVATE
DTSTART;TZID=Europe/Berlin:20260915T190000
DTEND;TZID=Europe/Berlin:20260915T203000
DTSTAMP:20260423T083940Z
END:VEVENT
END:VCALENDAR